BEGIN:VCALENDAR
VERSION:2.0
PRODID:-//RelNet Technológia Kft. - ECPv5.16.4//NONSGML v1.0//EN
CALSCALE:GREGORIAN
METHOD:PUBLISH
XXXXXXXXXXXXXXXXXXXXXXXXXXXXXXXXXXXXXX
XXXXXXXXXXXXXXXXXXXXXXXXXXXXXXXXX
XXXXXXXXXXXXXXXXXXXXXXXXXXXXXXXXXXXXXXXXXXXXXXXXX
BEGIN:VTIMEZONE
TZID:Europe/Budapest
BEGIN:DAYLIGHT
TZOFFSETFROM:+0100
TZOFFSETTO:+0200
TZNAME:CEST
DTSTART:20200329T010000
END:DAYLIGHT
BEGIN:STANDARD
TZOFFSETFROM:+0200
TZOFFSETTO:+0100
TZNAME:CET
DTSTART:20201025T010000
END:STANDARD
END:VTIMEZONE
BEGIN:VEVENT
DTSTART;TZID=Europe/Budapest:20201019T093000
DTEND;TZID=Europe/Budapest:20201019T133000
DTSTAMP:20260420T075110
CREATED:20201026T111724Z
LAST-MODIFIED:20201026T114356Z
UID:9770-1603099800-1603114200@relnet.hu
SUMMARY:Skybox Certified Professional Services (SCPS) képzés
DESCRIPTION:A Skybox Security Certified Professional Services (SCPS) oktató által tartott\, de online képzést szervez 2020. október 19-29. között. A virtuális képzés oktatója Jaco Potgieter (Professional Services\, Skybox Security). \nA tanfolyam angol nyelvű. \nA képzés során a Skybox alkalmazásáról és az egyes telepítési esetekről tanulhat\, beleértve a bevált gyakorlatokat és a valós idejű forgatókönyveket. Ezenkívül a tanfolyam kiterjed a Skybox telepítés utáni karbantartására\, a Skybox platformon végzett\, ​​általános adminisztratív feladatokra\, valamint arra\, hogyan lehet ezeket beintegrálni a meglévő vállalati folyamatokba. \nTovábbi részletek a kurzusról itt. / https://lp.skyboxsecurity.com/rs/440-MPQ-510/images/SCPS_Training_Course_032020.pdf/ \nRészletes témakörei és időbeosztása itt érhető el: \nhttps://lp.skyboxsecurity.com/EVPE-2020-10-EMEA-SCPS-Virtual_03Agenda.html \nA tanfolyamot Zoom-on keresztül tartják\, és napi 4 óra elfoglaltságot jelent 8 napon keresztül. \nA résztvevők száma korlátozott\, maximum 8 hallgató vehet részt rajta. \nA Skybox Security csak azoknak a jelentkezését igazolja vissza\, akik teljesítik az alábbi előfeltételeket. \nSzükséges előfeltételek \nA Skybox Security ingyenes\, on-line képzéseinek elvégzése\, melyek a Skybox oldalán történő egyszerű regisztráció után könnyen elérhetőek. \nAz elvárt képzések a következők: \nSkybox Certified Sales Consultant (SCSC) \nA tanfolyam megadja azokat az ismereteket\, amelyek szükségesek a Skybox biztonsági megoldásainak sikeres értékesítéséhez. A tanfolyamra itt tud regisztrálni: Skybox Certified Sales Consultant (SCSC) \nSkybox Certified Technical Associate (SCTA) \nA tanfolyam mélyreható képet ad a Skybox biztonsági megoldásairól. \nKérjük\, hogy a tanfolyam elvégzésére 8 órával számoljon! Itt tud regisztrálni. \n\n\nSkybox Certified Professional Services (SCPS) képzés\nOnline képzés \n2020. október 19-29. 9:30-13:30 \nREGISZTRÁCIÓ
URL:https://relnet.hu/rendezveny/skybox-certified-professional-services-scps-kepzes-2/2020-10-19/
LOCATION:Virtuális rendezvény
CATEGORIES:Skybox Security
ATTACH;FMTTYPE=image/png:https://relnet.hu/wp-content/uploads/2020/08/Skybox_SCPS_kepzes-min.png
END:VEVENT
END:VCALENDAR