BEGIN:VCALENDAR
VERSION:2.0
PRODID:-//RelNet Technológia Kft. - ECPv5.16.4//NONSGML v1.0//EN
CALSCALE:GREGORIAN
METHOD:PUBLISH
XXXXXXXXXXXXXXXXXXXXXXXXXXXXXXXXXXXXXX
XXXXXXXXXXXXXXXXXXXXXXXXXXXXXXXXX
XXXXXXXXXXXXXXXXXXXXXXXXXXXXXXXXXXXXXXXXXXXXXXXXX
BEGIN:VTIMEZONE
TZID:Europe/Budapest
BEGIN:DAYLIGHT
TZOFFSETFROM:+0100
TZOFFSETTO:+0200
TZNAME:CEST
DTSTART:20240331T010000
END:DAYLIGHT
BEGIN:STANDARD
TZOFFSETFROM:+0200
TZOFFSETTO:+0100
TZNAME:CET
DTSTART:20241027T010000
END:STANDARD
END:VTIMEZONE
BEGIN:VEVENT
DTSTART;TZID=Europe/Budapest:20240610T100000
DTEND;TZID=Europe/Budapest:20240610T180000
DTSTAMP:20260420T162135
CREATED:20240430T101057Z
LAST-MODIFIED:20240430T101057Z
UID:33635-1718013600-1718042400@relnet.hu
SUMMARY:Skybox SCPS virtuális tréning
DESCRIPTION:A Skybox Certified Professional Services tanfolyam a Skybox platform telepítési lehetőségeire és gyakorlatára összpontosít. A két napos\, angol nyelvű képzés útmutatást nyújt a partnerek számára a legjobb telepítési gyakorlatokról és valós forgatókönyvekről. \nREGISZTRÁCIÓ\n\nIdőpont: 2024. június 10-11. (hétfő-kedd) | 10:00-18:00 \nA tárgyalt témák interaktív gyakorlatok révén kerülnek bemutatásra\, hogy a partnerek tapasztalatot szerezzenek a mindennapi használatról. \nA Skybox a tréninkre a biztonsági tanácsadókat\, IT biztonsági szakembereket\, mérnököket várja elsősorban. A rendelkezésre álló helyek száma korlátozott\, ezért érdemes minél korábban regisztrálni. A tanfolyamra csak az alábbi előfeltételt teljesítő résztvevők kapnak visszaigazolást egy Zoom-link formájában: \nA tanfolyamon való részvételhez a Skybox Certified Platform Operator (SCPO) tanfolyam előzetes teljesítése szükséges. \nREGISZTRÁCIÓ
URL:https://relnet.hu/rendezveny/skybox-scps-virtualis-trening/2024-06-10/
LOCATION:Virtuális rendezvény
CATEGORIES:Skybox Security
ATTACH;FMTTYPE=image/jpeg:https://relnet.hu/wp-content/uploads/2024/04/SkyboxSCPS-min.jpg
END:VEVENT
END:VCALENDAR