BEGIN:VCALENDAR
VERSION:2.0
PRODID:-//RelNet Technológia Kft. - ECPv5.16.4//NONSGML v1.0//EN
CALSCALE:GREGORIAN
METHOD:PUBLISH
XXXXXXXXXXXXXXXXXXXXXXXXXXXXXXXXXXXXXX
XXXXXXXXXXXXXXXXXXXXXXXXXXXXXXXXX
XXXXXXXXXXXXXXXXXXXXXXXXXXXXXXXXXXXXXXXXXXXXXXXXX
BEGIN:VTIMEZONE
TZID:Europe/Budapest
BEGIN:DAYLIGHT
TZOFFSETFROM:+0100
TZOFFSETTO:+0200
TZNAME:CEST
DTSTART:20240331T010000
END:DAYLIGHT
BEGIN:STANDARD
TZOFFSETFROM:+0200
TZOFFSETTO:+0100
TZNAME:CET
DTSTART:20241027T010000
END:STANDARD
END:VTIMEZONE
BEGIN:VEVENT
DTSTART;TZID=Europe/Budapest:20240918T110000
DTEND;TZID=Europe/Budapest:20240918T120000
DTSTAMP:20260419T232758
CREATED:20240916T081629Z
LAST-MODIFIED:20240916T092600Z
UID:34921-1726657200-1726660800@relnet.hu
SUMMARY:Skybox Security technikai webinárium partnerek számára
DESCRIPTION:A Skybox platform hálózati vizualizáció és elemzés céljára történő felhasználásáról lesz szó ezen a technikai webináriumon: Model Explorer\, új hálózati térkép\, Access Analyzer. \nREGISZTRÁCIÓ\n\nIdőpont: 2024. szeptember 18. (szerda) | 11:00 \nTémák: \n\nHogyan használható a Model Explorer támadásifelület-kezelő (CAASM) eszközként az összetett hálózati környezetek hatékony vizualizálására?\nHogyan használhatják az ügyfelek az új hálózati térképet\, többek között egyéni térképek létrehozására?\nA Skybox Access Analyzer használata a végponttól végpontig tartó útvonalelemzésben\n\nA Model Explorer teljes láthatóságot és állandó monitorozást biztosít a támadható eszközökre vonatkozóan\, miközben a teljes támadási felületet vizualizálja. \nElőadó: Nilesh Bharakhada\, Technical Director of Worldwide Channels \nREGISZTRÁCIÓ
URL:https://relnet.hu/rendezveny/skybox-security-technikai-webinarium-partnerek-szamara/
LOCATION:Virtuális rendezvény
CATEGORIES:Skybox Security
ATTACH;FMTTYPE=image/jpeg:https://relnet.hu/wp-content/uploads/2024/09/SkyboxTechnicalWebinar-min.jpg
END:VEVENT
END:VCALENDAR