BEGIN:VCALENDAR
VERSION:2.0
PRODID:-//RelNet Technológia Kft. - ECPv5.16.4//NONSGML v1.0//EN
CALSCALE:GREGORIAN
METHOD:PUBLISH
XXXXXXXXXXXXXXXXXXXXXXXXXXXXXXXXXXXXXX
XXXXXXXXXXXXXXXXXXXXXXXXXXXXXXXXX
XXXXXXXXXXXXXXXXXXXXXXXXXXXXXXXXXXXXXXXXXXXXXXXXX
BEGIN:VTIMEZONE
TZID:Europe/Budapest
BEGIN:DAYLIGHT
TZOFFSETFROM:+0100
TZOFFSETTO:+0200
TZNAME:CEST
DTSTART:20240331T010000
END:DAYLIGHT
BEGIN:STANDARD
TZOFFSETFROM:+0200
TZOFFSETTO:+0100
TZNAME:CET
DTSTART:20241027T010000
END:STANDARD
END:VTIMEZONE
BEGIN:VEVENT
DTSTART;TZID=Europe/Budapest:20240417T110000
DTEND;TZID=Europe/Budapest:20240417T120000
DTSTAMP:20260420T122147
CREATED:20240411T084225Z
LAST-MODIFIED:20240411T084225Z
UID:33414-1713351600-1713355200@relnet.hu
SUMMARY:Skybox Security – Tűzfalteljesítmény javítása automatizált szabályoptimalizációval
DESCRIPTION:Ezen a műszaki témájú webináriumon megtudhatja\, hogyan javítható a Skybox megoldásával a tűzfalak teljesítménye\, valamint hogyan optimalizálhatók heterogén tűfalrendszerek esetén is a házirendek. \n\nREGISZTRÁCIÓ\n\n\nIdőpont: 2024. április 17. (szerda) | 11:00 \nA tűzfalmenedzsmenttel kapcsolatos tudás fontos részét képezi a tűzfalházirendek szigorítása\, optimalizálása és karbantartása\, továbbá: \n\nAz árnyékolt és a redundáns szabályok közötti különbség\nAz árnyékolt és a redundáns szabályok megjelenítése a hálózatra gyakorolt hatásuk felmérése érdekében\nA szabály- és objektumhasználat felmérése a Skybox segítségével\nAz eredmények áttekintése a tűzfalházirendek optimalizálása érdekében\n\nElőadó: Nilesh Bharakhada\, Technical Director of Worldwide Channels \n\nREGISZTRÁCIÓ
URL:https://relnet.hu/rendezveny/skybox-security-tuzfalteljesitmeny-javitasa-automatizalt-szabalyoptimalizacioval/
LOCATION:Virtuális rendezvény
CATEGORIES:Skybox Security,Webinárium
ATTACH;FMTTYPE=image/jpeg:https://relnet.hu/wp-content/uploads/2024/04/SkyboxTuzfalTeljesitmeny-min.jpg
END:VEVENT
END:VCALENDAR