BEGIN:VCALENDAR
VERSION:2.0
PRODID:-//RelNet Technológia Kft. - ECPv5.16.4//NONSGML v1.0//EN
CALSCALE:GREGORIAN
METHOD:PUBLISH
XXXXXXXXXXXXXXXXXXXXXXXXXXXXXXXXXXXXXX
XXXXXXXXXXXXXXXXXXXXXXXXXXXXXXXXX
XXXXXXXXXXXXXXXXXXXXXXXXXXXXXXXXXXXXXXXXXXXXXXXXX
BEGIN:VTIMEZONE
TZID:Europe/Budapest
BEGIN:DAYLIGHT
TZOFFSETFROM:+0100
TZOFFSETTO:+0200
TZNAME:CEST
DTSTART:20220327T010000
END:DAYLIGHT
BEGIN:STANDARD
TZOFFSETFROM:+0200
TZOFFSETTO:+0100
TZNAME:CET
DTSTART:20221030T010000
END:STANDARD
END:VTIMEZONE
BEGIN:VEVENT
DTSTART;TZID=Europe/Budapest:20220126T133000
DTEND;TZID=Europe/Budapest:20220126T143000
DTSTAMP:20260419T204443
CREATED:20220113T143250Z
LAST-MODIFIED:20220114T102001Z
UID:19643-1643203800-1643207400@relnet.hu
SUMMARY:Solarwinds megoldásainak bemutatása - Végfelhasználóknak szóló webinárium
DESCRIPTION:Új gyártót köszönthetünk a portfóliónkban! A SolarWinds termékeit a cég szakértői mutatják be a január 26-i élő\, angol nyelvű webináriumon\, amelyre végfelhasználók jelentkezését várjuk. \nA SolarWinds a könnyen használható\, hatékony és biztonságos IT menedzsment szoftverek vezető fejlesztője. Termékei bármilyen típusú és méretű szervezet számára lehetővé teszik az üzleti átalakulás felgyorsítását a modern hibrid IT-környezetekben. A SolarWinds folyamatos kommunikációt folytat technológiai szakemberekkel (IT szolgáltatási és üzemeltetési szakértőkkel\, DevOps- és SecOps-szakértőkkel\, valamint adatbázis-adminisztrátorokkal)\, hogy megtudja\, milyen kihívásokkal kell szembenézniük a nagy teljesítményű\, magas rendelkezésre állású IT infrastruktúrák\, alkalmazások és környezetek kezelése során. A SolarWinds a megismert IT menedzsmentigények alapján fejleszti ki a termékeit annak érdekében\, hogy az ügyfelek által kívánt hálózatfelügyeleti\, ITSM\, alkalmazásteljesítmény-figyelési és adatbázis-kezelési megoldásokat tudja kínálni. \nA SolarWinds termékei külön-külön\, de egymással integrálva is használhatók. A vállalat (ITOM) portfóliója jelentős mértékben csökkenti az informatikai infrastruktúra komplexitását\, valamint általa gyorsabban azonosíthatók és orvosolhatók a problémák. \nCsatlakozzon a 2022. január 26-án megtartandó webináriumunkhoz\, amelyen a SolarWinds menedzserei mutatják be a cég ITOM termékeit. \nTéma: \n\nA SolarWinds termékportfólió bemutatása – Sascha Giese – Head Geek™\, International Technical Product Marketing Manager és Christian Ohsam\, Channel Manager EMEA Central\n\nIdőpont: 2022. január 26. (szerda) / 13:30 -14:30 CET \nREGISZTRÁLJON MOST! \nAz eseményre az oldalon történő regisztráció/bejelentkezés után tud jelentkezni.
URL:https://relnet.hu/rendezveny/solarwinds-megoldasainak-bemutatasa-vegfelhasznaloknak-szolo-webinarium/
LOCATION:Virtuális rendezvény
CATEGORIES:SolarWinds,Végfelhasználó
ATTACH;FMTTYPE=image/png:https://relnet.hu/wp-content/uploads/2022/01/Solarwinds_enduser-min.png
END:VEVENT
END:VCALENDAR