BEGIN:VCALENDAR
VERSION:2.0
PRODID:-//RelNet Technológia Kft. - ECPv5.16.4//NONSGML v1.0//EN
CALSCALE:GREGORIAN
METHOD:PUBLISH
XXXXXXXXXXXXXXXXXXXXXXXXXXXXXXXXXXXXXX
XXXXXXXXXXXXXXXXXXXXXXXXXXXXXXXXX
XXXXXXXXXXXXXXXXXXXXXXXXXXXXXXXXXXXXXXXXXXXXXXXXX
BEGIN:VTIMEZONE
TZID:Europe/Budapest
BEGIN:DAYLIGHT
TZOFFSETFROM:+0100
TZOFFSETTO:+0200
TZNAME:CEST
DTSTART:20220327T010000
END:DAYLIGHT
BEGIN:STANDARD
TZOFFSETFROM:+0200
TZOFFSETTO:+0100
TZNAME:CET
DTSTART:20221030T010000
END:STANDARD
END:VTIMEZONE
BEGIN:VEVENT
DTSTART;TZID=Europe/Budapest:20220613T100000
DTEND;TZID=Europe/Budapest:20220614T130000
DTSTAMP:20260420T043843
CREATED:20220414T073138Z
LAST-MODIFIED:20220414T073138Z
UID:21735-1655114400-1655211600@relnet.hu
SUMMARY:SolarWinds Network Configuration Manager és NetFlow Traffic Analyzer virtuális képzés
DESCRIPTION:A SolarWinds most egyedülálló alkalmat kínál partnereinek ingyenesen elvégezni a több ezer dollár értékű képzését! A Partner Virtual Bootcamp június 13-ától\, két napon át kerül megrendezésre! \nMindenki\, aki elvégzi a képzést és leteszi hozzá a vizsgát\, oklevelet kap a SolarWindstől. Töltse fel a megszerzett oklevelet az eLearning rendszerünkbe\, és mi extra pontokat adunk érte! \nAz alábbi linken tud regisztrálni az ott megadott űrlap kitöltésével: \n\nNetwork Configuration Manager (NCM) és NetFlow Traffic Analyzer (NTA)\n\njúnius 13. és 14. / 10:00 CET / Tartam: összesen 6 óra\n\n\n\nA részvétel feltételei: \n\nA regisztráció legvégső határideje: 1 nappal a képzés kezdete előtt\nA lemondás is legfeljebb 1 nappal korábban történhet\nA képzés maximált létszáma 35 fő\nA regisztráció elfogadása manuálisan történik\, és a résztvevő erről e-mailes megerősítést kap\n\nA Bootcamp elvégzése után a résztvevő vizsga vouchert kap\, amelyet vizsgázási céllal ingyenesen beválthat. A voucher megszerzésének feltételei: \n\njelenlét minden meghirdetett napon\, és a teljes időtartam legalább 70%-ában;\na voucher nem átruházható\, valamint kizárólag a vonatkozó vizsgára és egy vizsgázási alkalomra érvényes (azaz nem lehet vele ingyenesen újravizsgázni!);\na voucher megszerzése után 90 napon belül kell időpontot foglalni a vizsgára.\n\nA regisztráció és a részvétel további részleteiről a SolarWindsnél lehet érdeklődni a certification@solarwinds.com e-mail címen. \n  \nREGISZTRÁCIÓ
URL:https://relnet.hu/rendezveny/solarwinds-network-configuration-manager-es-netflow-traffic-analyzer-virtualis-kepzes/
LOCATION:Virtuális rendezvény
CATEGORIES:Oktatás,SolarWinds
ATTACH;FMTTYPE=image/png:https://relnet.hu/wp-content/uploads/2022/04/SW_bootcamp_NCM_NTA-min.png
END:VEVENT
END:VCALENDAR