BEGIN:VCALENDAR
VERSION:2.0
PRODID:-//RelNet Technológia Kft. - ECPv5.16.4//NONSGML v1.0//EN
CALSCALE:GREGORIAN
METHOD:PUBLISH
XXXXXXXXXXXXXXXXXXXXXXXXXXXXXXXXXXXXXX
XXXXXXXXXXXXXXXXXXXXXXXXXXXXXXXXX
XXXXXXXXXXXXXXXXXXXXXXXXXXXXXXXXXXXXXXXXXXXXXXXXX
BEGIN:VTIMEZONE
TZID:Europe/Budapest
BEGIN:DAYLIGHT
TZOFFSETFROM:+0100
TZOFFSETTO:+0200
TZNAME:CEST
DTSTART:20230326T010000
END:DAYLIGHT
BEGIN:STANDARD
TZOFFSETFROM:+0200
TZOFFSETTO:+0100
TZNAME:CET
DTSTART:20231029T010000
END:STANDARD
END:VTIMEZONE
BEGIN:VEVENT
DTSTART;TZID=Europe/Budapest:20230607T160000
DTEND;TZID=Europe/Budapest:20230607T170000
DTSTAMP:20260420T022042
CREATED:20230531T091510Z
LAST-MODIFIED:20230531T091510Z
UID:29481-1686153600-1686157200@relnet.hu
SUMMARY:SolarWinds Observability értékesítési alapismeretek sorozat - Első rész
DESCRIPTION:Csatlakozzon 2023. június 7-én 16 órakor a „SolarWinds Observability Sales Fundamentals Series” című előadáshoz\, hogy megtudja\, hogyan veheti figyelembe ügyfelei legfontosabb üzleti igényeit. \nREGISZTRÁCIÓ\n\nIdőpont: 2023. június 7. (szerda) | 16:00 \nKészen áll arra\, hogy a SolarWinds Observability értékesítése során meggyőző és hiteles üzleti tárgyalásokkal közelítse meg ügyfeleit és a potenciális vásárlóit? Olyan megoldásokat szeretne pozícionálni\, amelyek képesek átalakítani az ügyfelek informatikai és az üzleti eredményeit? Szeretne egy olyan képzési sorozatban részt venni\, amely megmutatja\, milyen sales erőforrásokat és módszereket használnak a SolarWinds értékesítők? Legyen aktív részese az Observability iparágnak\, amely a Morgan Stanley szerint 2024-ben 19\,4 milliárd dollárra fog nőni. \n  \nA sorozat első részén való részvétel után az értékesítő partnerek a következőkre számíthatnak: \n\nA SolarWinds Observability megoldásának hiteles értékesítőjévé válnak a felhasználási eseteknek és a potenciális vásárlók felfedezésének bemutatása révén.\nKépesek lesznek növelni a felkészültségüket és kompetenciájukat a jobb ügyféltárgyalások és értékesítési eredmények érdekében.\nKépessé válnak arra\, hogy növeljék a SolarWinds termékstratégiájának ismertségét.\nErősítik az együttműködést a SolarWinds Observability hatékony értékesítése érdekében.\n\n 
URL:https://relnet.hu/rendezveny/solarwinds-observability-ertekesitesi-alapismeretek-sorozat-elso-resz/
LOCATION:Virtuális rendezvény
CATEGORIES:SolarWinds
ATTACH;FMTTYPE=image/jpeg:https://relnet.hu/wp-content/uploads/2023/05/SolarWinds_Observability_1_resz_HU-min.jpg
END:VEVENT
END:VCALENDAR