BEGIN:VCALENDAR
VERSION:2.0
PRODID:-//RelNet Technológia Kft. - ECPv5.16.4//NONSGML v1.0//EN
CALSCALE:GREGORIAN
METHOD:PUBLISH
XXXXXXXXXXXXXXXXXXXXXXXXXXXXXXXXXXXXXX
XXXXXXXXXXXXXXXXXXXXXXXXXXXXXXXXX
XXXXXXXXXXXXXXXXXXXXXXXXXXXXXXXXXXXXXXXXXXXXXXXXX
BEGIN:VTIMEZONE
TZID:Europe/Budapest
BEGIN:DAYLIGHT
TZOFFSETFROM:+0100
TZOFFSETTO:+0200
TZNAME:CEST
DTSTART:20250330T010000
END:DAYLIGHT
BEGIN:STANDARD
TZOFFSETFROM:+0200
TZOFFSETTO:+0100
TZNAME:CET
DTSTART:20251026T010000
END:STANDARD
END:VTIMEZONE
BEGIN:VEVENT
DTSTART;TZID=Europe/Budapest:20250716T170000
DTEND;TZID=Europe/Budapest:20250716T180000
DTSTAMP:20260420T033101
CREATED:20250709T104853Z
LAST-MODIFIED:20250709T104853Z
UID:38570-1752685200-1752688800@relnet.hu
SUMMARY:SolarWinds Observability Masterclass – 1. epizód
DESCRIPTION:Webinárium: Miért kulcsfontosságú a teljes körű láthatóság a hibrid IT környezetekben? \nREGISZTRÁCIÓ\n\nIdőpont: 2025. július 16. (szerda) | 17:00–18:00 \nA modern IT-környezetek egyre összetettebbek – és éppen ez az összetettség okozza az egyik legnagyobb kockázatot: a töredezett láthatóságot. Csatlakozzon a SolarWinds Observability Masterclass webináriumsorozat első részéhez\, amelyen megtudhatja: \n\nHol alakulnak ki vakfoltok a hálózatban\, infrastruktúrában vagy a felhőben\nMilyen kockázatokat rejt a szigetszerű („silós”) monitorozás\nMiért csökkenti a teljes körű láthatóság a hibaelhárítási időt (MTTR)\nHogyan működik mindez a gyakorlatban: élő bemutató a SolarWinds Observability megoldásairól (SaaS és Self-Hosted opciókkal)\n\nElőadók: \n\nChrystal Taylor – Tech Evangelist\nSascha Giese – Tech Evangelist\nChad Every – Senior Staff Product Manager\n\nEz a webinárium azoknak szól\, akik a szervezetükben felelősek az IT-infrastruktúra teljesítményéért\, megbízhatóságáért vagy rendelkezésre állásáért – legyen szó mérnökökről\, üzemeltetőkről vagy döntéshozókról.
URL:https://relnet.hu/rendezveny/solarwinds-observability-masterclass-1-epizod/
LOCATION:Virtuális rendezvény
CATEGORIES:SolarWinds,Webinárium
ATTACH;FMTTYPE=image/jpeg:https://relnet.hu/wp-content/uploads/2025/07/SolarwindsObservabilityMasterclass1min.jpg
END:VEVENT
END:VCALENDAR