BEGIN:VCALENDAR
VERSION:2.0
PRODID:-//RelNet Technológia Kft. - ECPv5.16.4//NONSGML v1.0//EN
CALSCALE:GREGORIAN
METHOD:PUBLISH
XXXXXXXXXXXXXXXXXXXXXXXXXXXXXXXXXXXXXX
XXXXXXXXXXXXXXXXXXXXXXXXXXXXXXXXX
XXXXXXXXXXXXXXXXXXXXXXXXXXXXXXXXXXXXXXXXXXXXXXXXX
BEGIN:VTIMEZONE
TZID:Europe/Budapest
BEGIN:DAYLIGHT
TZOFFSETFROM:+0100
TZOFFSETTO:+0200
TZNAME:CEST
DTSTART:20240331T010000
END:DAYLIGHT
BEGIN:STANDARD
TZOFFSETFROM:+0200
TZOFFSETTO:+0100
TZNAME:CET
DTSTART:20241027T010000
END:STANDARD
END:VTIMEZONE
BEGIN:VEVENT
DTSTART;TZID=Europe/Budapest:20240919T130000
DTEND;TZID=Europe/Budapest:20240919T140000
DTSTAMP:20260420T005302
CREATED:20240821T082251Z
LAST-MODIFIED:20240916T081609Z
UID:34633-1726750800-1726754400@relnet.hu
SUMMARY:SolarWinds Partner Sync webinárium
DESCRIPTION:A legújabb SolarWinds EMEA Partner Sync webináriumon Gerdy Dhondt\, az EMEA-csatorna értékesítési igazgatója bemutatja a legújabb termékütemterveket\, a partnerprogram újdonságait és még sok mást. \nREGISZTRÁCIÓ\n\nTémák: \n\nFőbb bejelentések és új partneri ösztönzések\nTermékütemtervek és kibocsátási információk\nÉrtékesítési és technikai újdonságok\nPeer-to-Peer Learning bejelentése\nBevált gyakorlatok\nKérdések\, válaszok\n\nIdőpont: 2024. szeptember 19. (csütörtök) | 13:00-14:00 \nElőadó: Gerdy Dhondt\, EMEA Regional Channel Sales\, SolarWinds
URL:https://relnet.hu/rendezveny/solarwinds-partner-sync-webinarium/
LOCATION:Virtuális rendezvény
CATEGORIES:SolarWinds
ATTACH;FMTTYPE=image/jpeg:https://relnet.hu/wp-content/uploads/2024/08/SolarWindsPartnerSyncWeb-min.jpg
END:VEVENT
END:VCALENDAR