BEGIN:VCALENDAR
VERSION:2.0
PRODID:-//RelNet Technológia Kft. - ECPv5.16.4//NONSGML v1.0//EN
CALSCALE:GREGORIAN
METHOD:PUBLISH
XXXXXXXXXXXXXXXXXXXXXXXXXXXXXXXXXXXXXX
XXXXXXXXXXXXXXXXXXXXXXXXXXXXXXXXX
XXXXXXXXXXXXXXXXXXXXXXXXXXXXXXXXXXXXXXXXXXXXXXXXX
BEGIN:VTIMEZONE
TZID:Europe/Budapest
BEGIN:DAYLIGHT
TZOFFSETFROM:+0100
TZOFFSETTO:+0200
TZNAME:CEST
DTSTART:20230326T010000
END:DAYLIGHT
BEGIN:STANDARD
TZOFFSETFROM:+0200
TZOFFSETTO:+0100
TZNAME:CET
DTSTART:20231029T010000
END:STANDARD
END:VTIMEZONE
BEGIN:VEVENT
DTSTART;TZID=Europe/Budapest:20230213T180000
DTEND;TZID=Europe/Budapest:20230213T220000
DTSTAMP:20260420T020003
CREATED:20221125T090916Z
LAST-MODIFIED:20230202T144658Z
UID:26297-1676311200-1676325600@relnet.hu
SUMMARY:SolarWinds Transform Partner Summit EMEA 2023 konferencia Barcelonában
DESCRIPTION:Az EMEA Transform Partner Summit 2023 az év egyik legfontosabb SolarWinds eseménye\, amelyen a részvétel ingyenes a partnerek számára. A gyártó itt tájékoztatja a disztribútor és viszonteladó partnereit az értékesítési stratégiájáról\, a termékfejlesztési ütemtervéről és az üzletfejlesztési lehetőségekről. Emellett a partnerek műszaki és értékesítő csapatai hivatalos minősítést adó képzéseken is részt vehetnek. A rendezvénysorozatot 2023. február 13-tól 17-ig tartják meg. \nMiért érdemes részt venni az ingyenes konferencián?\n\nA SolarWinds felső vezetése beszámol a cég stratégiájáról és az értékesítési csatornák növekvő jelentőségéről.\nÚj üzletfejlesztési lehetőségeket ismerhet meg a SolarWinds termékeinek és megoldásainak értékesítése révén.\nMegtudhat mindent a SolarWinds termékportfóliójának fejlődéséről\, és új növekedési lehetőségeket fedezhet fel.\nÚj értékesítési technikákat ismerhet meg a SolarWinds Sales Expert (SSE) akkreditációs tréning és a SolarWinds Certified Professional (SCP) minősítés segítségével.\nIngyen leteheti a SolarWinds Certified Professional (SCP) vizsgákat.\n\n \nA rendezvény ’Executive Plenary’ eseményén a SolarWinds top menedzserei beszélnek többek között a cég 2023-es stratégiájáról\, a megújított partnerprogramról\, az EMEA régióra vonatkozó stratégiáról\, a termékportfólióról és annak fejlesztési üteméről\, valamint a képzési lehetőségekről. A február 14-i rendezvény a partnerdíjak átadási ceremóniájával zárul. \nA SolarWinds Sales Expert (SSE) akkreditációs képzéseket az értékesítő szakemberek számára tervezték. Az akkreditációk élő\, interaktív webcastok (február 15.) révén szerezhetők meg\, ahol az előadók a SolarWinds értékesítési szakértői lesznek. További részletek a SolarWinds Sales Expert (SSE) képzésekről. \nA SolarWinds Certified Professional technikai képzéseken (február 14-17.) alkalmanként legfeljebb 20 személy vehet részt. A részvétel – regisztráció után – jóváhagyáshoz kötött! További részletek a SolarWinds Certified Professional (SCP) képzésekről. \nAz EMEA Partner Summit 2023 a barcelonai Meliá Barcelona Sky szállodában kerül megrendezésre. A SolarWinds által biztosított szobafoglalási kedvezményre 2022. november 30-ig van lehetőség. A gyártó a partner@solarwinds.com e-mail címen várja a regisztrációval és foglalással kapcsolatos kérdéseket. \nJELENTKEZZEN MOST A RENDEZVÉNY REGISZTRÁCIÓS OLDALÁN!\n\nA Summit weboldala \n  \nNem tud személyesen részt venni?\nFebruár 14-én online is követheti a SolarWinds felsővezetőinek előadásait a 2023 értékesítési stratégiáról. \nTémák: \n\nGyártó 2023-as stratégiája\n2023-as partnerprogram\nSolarWinds regionális jövőkép\nPortfólió- és termékfejlesztési ütemterv\n\nIdőpont: 2023. február 14. (kedd) | 9:00 – 14:00 CET \nREGISZTRÁLJON AZ ÉLŐ ONLINE KÖZVETÍTÉSRE
URL:https://relnet.hu/rendezveny/solarwinds-transform-partner-summit-emea-2023-konferencia-barcelonaban/
LOCATION:Virtuális rendezvény
CATEGORIES:SolarWinds
ATTACH;FMTTYPE=image/png:https://relnet.hu/wp-content/uploads/2022/11/SW_PartnerSummit-min.png
END:VEVENT
END:VCALENDAR