BEGIN:VCALENDAR
VERSION:2.0
PRODID:-//RelNet Technológia Kft. - ECPv5.16.4//NONSGML v1.0//EN
CALSCALE:GREGORIAN
METHOD:PUBLISH
XXXXXXXXXXXXXXXXXXXXXXXXXXXXXXXXXXXXXX
XXXXXXXXXXXXXXXXXXXXXXXXXXXXXXXXX
XXXXXXXXXXXXXXXXXXXXXXXXXXXXXXXXXXXXXXXXXXXXXXXXX
BEGIN:VTIMEZONE
TZID:Europe/Budapest
BEGIN:DAYLIGHT
TZOFFSETFROM:+0100
TZOFFSETTO:+0200
TZNAME:CEST
DTSTART:20200329T010000
END:DAYLIGHT
BEGIN:STANDARD
TZOFFSETFROM:+0200
TZOFFSETTO:+0100
TZNAME:CET
DTSTART:20201025T010000
END:STANDARD
END:VTIMEZONE
BEGIN:VEVENT
DTSTART;TZID=Europe/Budapest:20200507T090000
DTEND;TZID=Europe/Budapest:20200507T170000
DTSTAMP:20260420T033417
CREATED:20200429T165022Z
LAST-MODIFIED:20200429T165022Z
UID:6294-1588842000-1588870800@relnet.hu
SUMMARY:Sophos értékesítési tanácsadó oktatás
DESCRIPTION:2020. május 7-re a Sophos egész napos virtuális „Sales Consultant Light” oktatást szervez. \nAz új\, értékesítési tanácsadói „könnyített” tanfolyam a COVID-19 járványhelyzet miatt elmaradt 2 napos tantermi képzés rövidített virtuális formája. \nA cél a Sophos Syncronized Security megértése\, a Sophos alaptermékek áttekintése\, valamint a résztvevők ötleteket kaphatnak a keresztértékesítés és az eladási lehetőségek könnyebb beazonosítására. \nFőbb tematika:\n\nA Sophos bemutatása\nA Sophos stratégiája\nA kiberfenyegetések áttekintése\nA szinkronizált biztonság\nA Sophos Central\nA központi végpontvédelem és a Sophos InterceptX (EDR-rel)\nA központi szervervédelem\nA Sophos Mobile\nAz XG tűzfal\n\nAz előadáson maximum 15 fő vehet részt. \nJelentkezz még ma!\n\n\nSophos Sales Consultant Light\nVirtuális képzés\n2020. május 7. 9:00-17:00 \nAz interaktív egész napos oktatás 5 órás\, melyet három szünet szakít meg a nap során. \nREGISZTRÁCIÓ
URL:https://relnet.hu/rendezveny/sophos-ertekesitesi-tanacsado-oktatas/
LOCATION:Virtuális rendezvény
CATEGORIES:Gyártó,Oktatás,Rendezvény,Sophos,Viszonteladó,Webinárium
ATTACH;FMTTYPE=image/png:https://relnet.hu/wp-content/uploads/2020/04/Syncro_960x512.png
END:VEVENT
END:VCALENDAR