BEGIN:VCALENDAR
VERSION:2.0
PRODID:-//RelNet Technológia Kft. - ECPv5.16.4//NONSGML v1.0//EN
CALSCALE:GREGORIAN
METHOD:PUBLISH
XXXXXXXXXXXXXXXXXXXXXXXXXXXXXXXXXXXXXX
XXXXXXXXXXXXXXXXXXXXXXXXXXXXXXXXX
XXXXXXXXXXXXXXXXXXXXXXXXXXXXXXXXXXXXXXXXXXXXXXXXX
BEGIN:VTIMEZONE
TZID:Europe/Budapest
BEGIN:DAYLIGHT
TZOFFSETFROM:+0100
TZOFFSETTO:+0200
TZNAME:CEST
DTSTART:20190331T010000
END:DAYLIGHT
BEGIN:STANDARD
TZOFFSETFROM:+0200
TZOFFSETTO:+0100
TZNAME:CET
DTSTART:20191027T010000
END:STANDARD
END:VTIMEZONE
BEGIN:VEVENT
DTSTART;TZID=Europe/Budapest:20191029T090000
DTEND;TZID=Europe/Budapest:20191029T140000
DTSTAMP:20260420T015627
CREATED:20190930T152011Z
LAST-MODIFIED:20200114T090858Z
UID:3702-1572339600-1572357600@relnet.hu
SUMMARY:Amit a Sophosról tudni akartál...
DESCRIPTION:Ismerje meg a Sophos termékpalettáját\, a versenytársakkal való összehasonlítását! \nElőadó Hirsch Gábor a RelNet Technológia Kft. partner fejlesztési specialistája és Szalai Tamás a RelNet Technológia Kft. pre-sales mérnöke lesznek. \nTematika\n9:00- Érkezés  \n9:00-10:35 Előadások \n\nA Sophos és termékportfoliójának bemutatása\nSophos pozícionálása a versenytársakkal szemben\n\n10:35-10:45 Szünet \n10:45-12:00 Előadások \n\nSophos alap licenszelési útmutató\nRelNet Sophos szolgáltatásainak bemutatása\n\n12:00-12:45 Ebédszünet \n12:45-14:00 Előadások \n\nSophos gyakorlati “use case”-ek\nKérdések és válaszok\n\nViszonteladó partnereinknek ingyenes részvételi lehetőséget biztosítunk\, amihez előzetes regisztráció szükséges!\nA férőhelyek száma korlátozott\, a regisztrációt a jelentkezés sorrendjében tudjuk elfogadni! \nAz előadások magyar nyelvűek. \nA workshop 9:00-től 14:00-ig tart.\nIdőpont: 2019. október 29.\nHelyszín: Az oktatás helyszíne a RelNet oktatóterme \nCím: 1047 Budapest\, Váci út 71. – Az épület és az udvar bejárata is a Perényi Zsigmond utcáról nyílik\nParkolás: Díjmentes a belső udvaron és a környező utcákban is. \nRegisztrálj most!
URL:https://relnet.hu/rendezveny/sophos-sales-training/
LOCATION:RelNet konferencia terem\, Váci út 71.\, Budapest\, 1047\, Magyarország
CATEGORIES:Oktatás,Rendezvény,Sophos,Viszonteladó
ATTACH;FMTTYPE=image/png:https://relnet.hu/wp-content/uploads/2019/09/111.png
GEO:47.572774139773;19.081058942328
X-APPLE-STRUCTURED-LOCATION;VALUE=URI;X-ADDRESS=RelNet konferencia terem Váci út 71. Budapest 1047 Magyarország;X-APPLE-RADIUS=500;X-TITLE=Váci út 71.:geo:19.081058942328,47.572774139773
END:VEVENT
END:VCALENDAR