BEGIN:VCALENDAR
VERSION:2.0
PRODID:-//RelNet Technológia Kft. - ECPv5.16.4//NONSGML v1.0//EN
CALSCALE:GREGORIAN
METHOD:PUBLISH
XXXXXXXXXXXXXXXXXXXXXXXXXXXXXXXXXXXXXX
XXXXXXXXXXXXXXXXXXXXXXXXXXXXXXXXX
XXXXXXXXXXXXXXXXXXXXXXXXXXXXXXXXXXXXXXXXXXXXXXXXX
BEGIN:VTIMEZONE
TZID:Europe/Budapest
BEGIN:DAYLIGHT
TZOFFSETFROM:+0100
TZOFFSETTO:+0200
TZNAME:CEST
DTSTART:20190331T010000
END:DAYLIGHT
BEGIN:STANDARD
TZOFFSETFROM:+0200
TZOFFSETTO:+0100
TZNAME:CET
DTSTART:20191027T010000
END:STANDARD
END:VTIMEZONE
BEGIN:VEVENT
DTSTART;TZID=Europe/Budapest:20191113T090000
DTEND;TZID=Europe/Budapest:20191113T160000
DTSTAMP:20260420T021628
CREATED:20191003T152759Z
LAST-MODIFIED:20200110T162439Z
UID:3716-1573635600-1573660800@relnet.hu
SUMMARY:Sophos Technikai workshop
DESCRIPTION:Ismerje meg a Sophos termékpalettáját. Oktató Grzegorz Nocon\, a Sophos rendszermérnöke. \nAgenda\n1. XG Firewall introduction and initial configuration\n2. Basic traffic control – Firewall and NAT configuration\n3. Network protection – IPS and ATP\n4. User protection – URL filtering\, Application control and AV scanning with Sandboxing\n5. Introduction Sophos Central and Endpoint protection deployment\n6. Synchronized Security – holistic security approach – client isolation and full network visibility\n7. Endpoint Detection and Response as a proactive security approach \n \nSzünet \nA szünet után az Arcserve képviselője\, Jung Tamás (Principal Consultant\, Technical Sales\, Arcserve) bemutatja az Arcserve és a Sophos stratégiai együttműködését\, melyet a teljeskörű adatvédelem biztosítása érdekében kötöttek. Az előadás főbb elemei a következők:  \n1. Adatmentés\, mint végső menedék\n2. Arcserve UDP appliance-alapú adatmentés\n3. A korszerű lemezes mentés ransomware védelme\n4. Miért a Sophost választotta az Arcserve technológiai partnernek \nA Sophos Workshop feladatainak elvégzéséhez szükséges virtuális környezet VM jeinek \n(1 x XG Firewall és 1 x Win10 Client) futtatásához kérjük hozzanak magukkal egy alábbi minimum konfigurációnak megfelelő notebookot: \n\nIntel core-i5 vagy ennek megfelelő CPU\,\nminimum 8GB RAM\,\nminimum 30GB szabad tárterület a háttértárolójukon\, amire\n\nmár feltelepítésre került egy virtualizációs szoftver. \nJavasolt a Virtualbox \, de VMware Workstation vagy Player is használható ízlés szerint\, a virtuális gépek OVA fájlként kerülnek átadásra. \n(A Virtualbox ingyenesen letölthető innen: https://www.virtualbox.org/wiki/Downloads) \nViszonteladó partnereinknek ingyenes részvételi lehetőséget biztosítunk\, amihez előzetes regisztráció szükséges!\nA férőhelyek száma korlátozott\, a regisztrációt a jelentkezés sorrendjében tudjuk elfogadni! \nAz előadások angol nyelvűek. \nA workshop 9:00-től 16:00-ig tart.\nIdőpont: 2019. november 13.\nHelyszín: Az oktatás helyszíne a RelNet oktatóterme \nCím: 1047 Budapest\, Váci út 71. – Az épület és az udvar bejárata is a Perényi Zsigmond utcáról nyílik\nParkolás: Díjmentes a belső udvaron és a környező utcákban is. \nRegisztrálj most!\nKapcsolódó hír:\nA Sophos ismét piacvezető a Gartner Magic Quadrant jelentésében
URL:https://relnet.hu/rendezveny/sophos-technical-workshop/
LOCATION:RelNet konferencia terem\, Váci út 71.\, Budapest\, 1047\, Magyarország
CATEGORIES:Oktatás,RelNet,Rendezvény,Sophos,Viszonteladó
ATTACH;FMTTYPE=image/png:https://relnet.hu/wp-content/uploads/2019/10/SD4.png
GEO:47.572774139773;19.081058942328
X-APPLE-STRUCTURED-LOCATION;VALUE=URI;X-ADDRESS=RelNet konferencia terem Váci út 71. Budapest 1047 Magyarország;X-APPLE-RADIUS=500;X-TITLE=Váci út 71.:geo:19.081058942328,47.572774139773
END:VEVENT
END:VCALENDAR