BEGIN:VCALENDAR
VERSION:2.0
PRODID:-//RelNet Technológia Kft. - ECPv5.16.4//NONSGML v1.0//EN
CALSCALE:GREGORIAN
METHOD:PUBLISH
XXXXXXXXXXXXXXXXXXXXXXXXXXXXXXXXXXXXXX
XXXXXXXXXXXXXXXXXXXXXXXXXXXXXXXXX
XXXXXXXXXXXXXXXXXXXXXXXXXXXXXXXXXXXXXXXXXXXXXXXXX
BEGIN:VTIMEZONE
TZID:Europe/Budapest
BEGIN:DAYLIGHT
TZOFFSETFROM:+0100
TZOFFSETTO:+0200
TZNAME:CEST
DTSTART:20200329T010000
END:DAYLIGHT
BEGIN:STANDARD
TZOFFSETFROM:+0200
TZOFFSETTO:+0100
TZNAME:CET
DTSTART:20201025T010000
END:STANDARD
END:VTIMEZONE
BEGIN:VEVENT
DTSTART;TZID=Europe/Budapest:20200315T090000
DTEND;TZID=Europe/Budapest:20200315T150000
DTSTAMP:20260422T191125
CREATED:20200213T115620Z
LAST-MODIFIED:20200317T084544Z
UID:4966-1584262800-1584284400@relnet.hu
SUMMARY:Sophos technikai workshop
DESCRIPTION:Az esemény későbbre halasztva… Hamarosan frissítjük az időpontot! \nIsmerje meg a Sophos XG tűzfalait és az Intercept X végpontvédelmi megoldását közelebbről is!\nGrzegorz Nocon\, a Sophos rendszermérnöke elméleti és laborfeladatok segítségével mutatja be a Sophos legnépszerűbb megoldásait. \nNapirend\n\nXG Firewall introduction and initial configuration\nBasic traffic control – Firewall and NAT configuration\nNetwork protection – IPS and ATP\nUser protection – URL filtering\, Application control and AV scanning with Sandboxing\nIntroduction Sophos Central and Endpoint protection deployment\nSynchronized Security – holistic security approach – client isolation and full network visibility\nEndpoint Detection and Response as a proactive security approach\n\n  \nA Sophos Workshop feladatainak elvégzéséhez szükséges virtuális környezet VM jeinek \n(1 x XG Firewall és 1 x Win10 Client) futtatásához kérjük hozzanak magukkal egy alábbi minimum konfigurációnak megfelelő notebookot: \n\nIntel core-i5 vagy ennek megfelelő CPU\,\nminimum 8GB RAM\,\nminimum 30GB szabad tárterület a háttértárolójukon\, amire\n\nmár feltelepítésre került egy virtualizációs szoftver. \nJavasolt a Virtualbox \, de VMware Workstation vagy Player is használható ízlés szerint. A virtuális gépek OVA fájlként kerülnek átadásra. \n(A Virtualbox ingyenesen letölthető innen: https://www.virtualbox.org/wiki/Downloads) \n  \nViszonteladó partnereinknek ingyenes részvételi lehetőséget biztosítunk\, amihez előzetes regisztráció szükséges!\nA férőhelyek száma korlátozott\, a regisztrációt a jelentkezés sorrendjében tudjuk elfogadni! \nAz előadások angol nyelvűek. \nA workshop 9:00-től 15:00-ig tart.\nIdőpont: 2020. március 19.\nHelyszín: Az oktatás helyszíne a RelNet oktatóterme \nCím: 1047 Budapest\, Váci út 71. – Az épület és az udvar bejárata is a Perényi Zsigmond utcáról nyílik\nParkolás: Díjmentes a belső udvaron és a környező utcákban is. \nRegisztráljon most!\nKapcsolódó hír:\nA Sophos ismét piacvezető a Gartner Magic Quadrant jelentésében
URL:https://relnet.hu/rendezveny/sophos-technikai-workshop/
LOCATION:RelNet konferencia terem\, Váci út 71.\, Budapest\, 1047\, Magyarország
CATEGORIES:Oktatás,RelNet,Rendezvény,Sophos,Viszonteladó
ATTACH;FMTTYPE=image/png:https://relnet.hu/wp-content/uploads/2020/02/Technical-workshop.png
GEO:47.572774139773;19.081058942328
X-APPLE-STRUCTURED-LOCATION;VALUE=URI;X-ADDRESS=RelNet konferencia terem Váci út 71. Budapest 1047 Magyarország;X-APPLE-RADIUS=500;X-TITLE=Váci út 71.:geo:19.081058942328,47.572774139773
END:VEVENT
END:VCALENDAR