BEGIN:VCALENDAR
VERSION:2.0
PRODID:-//RelNet Technológia Kft. - ECPv5.16.4//NONSGML v1.0//EN
CALSCALE:GREGORIAN
METHOD:PUBLISH
XXXXXXXXXXXXXXXXXXXXXXXXXXXXXXXXXXXXXX
XXXXXXXXXXXXXXXXXXXXXXXXXXXXXXXXX
XXXXXXXXXXXXXXXXXXXXXXXXXXXXXXXXXXXXXXXXXXXXXXXXX
BEGIN:VTIMEZONE
TZID:Europe/Budapest
BEGIN:DAYLIGHT
TZOFFSETFROM:+0100
TZOFFSETTO:+0200
TZNAME:CEST
DTSTART:20230326T010000
END:DAYLIGHT
BEGIN:STANDARD
TZOFFSETFROM:+0200
TZOFFSETTO:+0100
TZNAME:CET
DTSTART:20231029T010000
END:STANDARD
END:VTIMEZONE
BEGIN:VEVENT
DTSTART;TZID=Europe/Budapest:20230829T130000
DTEND;TZID=Europe/Budapest:20230829T160000
DTSTAMP:20260426T001656
CREATED:20230711T113132Z
LAST-MODIFIED:20230711T113132Z
UID:30034-1693314000-1693324800@relnet.hu
SUMMARY:SSH.COM Capital Markets Day: A kiberbiztonság fordulópontja
DESCRIPTION:Az SSH Capital Markets Day elemzők\, intézményi befektetők\, média- és tőkepiaci képviselők számára szervezett esemény. \n  \nREGISZTRÁCIÓ\n\n  \nIdőpont: 2023. augusztus 29 (kedd) | 13:00-16:00 \nAz online is követhető rendezvényen az SSH felsővezetői bemutatják a gyártó aktualizált üzleti stratégiáját\, valamint friss információkat adnak a folyamatban lévő és tervezett K+F projektekről\, az új termékek bevezetéséről\, valamint a cég növekedésének és nyereségességének mozgatórugóiról. \nAz esemény helyileg Finnországban lesz\, ám online is bárki csatlakozhat\, és részt vehet az interaktív eszmecseréken.
URL:https://relnet.hu/rendezveny/ssh-com-capital-markets-day-a-kiberbiztonsag-fordulopontja/
LOCATION:Virtuális rendezvény
CATEGORIES:SSH
ATTACH;FMTTYPE=image/jpeg:https://relnet.hu/wp-content/uploads/2023/07/SSHMarketDay-min.jpg
END:VEVENT
END:VCALENDAR