BEGIN:VCALENDAR
VERSION:2.0
PRODID:-//RelNet Technológia Kft. - ECPv5.16.4//NONSGML v1.0//EN
CALSCALE:GREGORIAN
METHOD:PUBLISH
XXXXXXXXXXXXXXXXXXXXXXXXXXXXXXXXXXXXXX
XXXXXXXXXXXXXXXXXXXXXXXXXXXXXXXXX
XXXXXXXXXXXXXXXXXXXXXXXXXXXXXXXXXXXXXXXXXXXXXXXXX
BEGIN:VTIMEZONE
TZID:Europe/Budapest
BEGIN:DAYLIGHT
TZOFFSETFROM:+0100
TZOFFSETTO:+0200
TZNAME:CEST
DTSTART:20240331T010000
END:DAYLIGHT
BEGIN:STANDARD
TZOFFSETFROM:+0200
TZOFFSETTO:+0100
TZNAME:CET
DTSTART:20241027T010000
END:STANDARD
END:VTIMEZONE
BEGIN:VEVENT
DTSTART;TZID=Europe/Budapest:20240618T140000
DTEND;TZID=Europe/Budapest:20240618T150000
DTSTAMP:20260420T063520
CREATED:20240612T115536Z
LAST-MODIFIED:20240612T115536Z
UID:33996-1718719200-1718722800@relnet.hu
SUMMARY:SSH webinárium partnerek számára az OT biztonságról
DESCRIPTION:Csatlakozzon az SSH Communications Security exkluzív partneri webináriumához\, amely felvértezi Önt azokkal az ismeretekkel\, amelyekre szüksége van az OT igények kiszolgálásához\, az OT megoldások értékesítéséhez és az OT biztonság megértéséhez. \nREGISZTRÁCIÓ\n\nIdőpont: 2024. június 18. (kedd) | 14:00 \nTémák: \n\nA 2024-es év aktuális piaci trendjei\, beleértve a Zero Trustot\, az IT/OT konvergenciát\, valamint a mesterséges intelligenciát és a gépi tanulást\nAz európai szabályozások\, például a NIS2-irányelv érvényesítése az ügyfélmegbízásokban\, az OT-biztonság alapvető fontossága érdekében\n\nElőadók: \nMassimo Nardone\, Vice President of OT Security\, SSH Communications Security \nMarta Grimm\, Channel Manager EMEA\, SSH Communications Security \nREGISZTRÁCIÓ
URL:https://relnet.hu/rendezveny/ssh-webinarium-partnerek-szamara-az-ot-biztonsagrol/
LOCATION:Virtuális rendezvény
CATEGORIES:SSH
ATTACH;FMTTYPE=image/jpeg:https://relnet.hu/wp-content/uploads/2024/06/SSHOtBiztonsagWebinar-min.jpg
END:VEVENT
END:VCALENDAR