BEGIN:VCALENDAR
VERSION:2.0
PRODID:-//RelNet Technológia Kft. - ECPv5.16.4//NONSGML v1.0//EN
CALSCALE:GREGORIAN
METHOD:PUBLISH
XXXXXXXXXXXXXXXXXXXXXXXXXXXXXXXXXXXXXX
XXXXXXXXXXXXXXXXXXXXXXXXXXXXXXXXX
XXXXXXXXXXXXXXXXXXXXXXXXXXXXXXXXXXXXXXXXXXXXXXXXX
BEGIN:VTIMEZONE
TZID:Europe/Budapest
BEGIN:DAYLIGHT
TZOFFSETFROM:+0100
TZOFFSETTO:+0200
TZNAME:CEST
DTSTART:20190331T010000
END:DAYLIGHT
BEGIN:STANDARD
TZOFFSETFROM:+0200
TZOFFSETTO:+0100
TZNAME:CET
DTSTART:20191027T010000
END:STANDARD
END:VTIMEZONE
BEGIN:VEVENT
DTSTART;TZID=Europe/Budapest:20190627T083000
DTEND;TZID=Europe/Budapest:20190627T150000
DTSTAMP:20260420T003216
CREATED:20190613T145016Z
LAST-MODIFIED:20200114T093819Z
UID:2727-1561624200-1561647600@relnet.hu
SUMMARY:Stormshield - Panda workshopot tartunk
DESCRIPTION:2019. június 27-én két workshopot tartunk egy napon. Délelőtt bemutatkozik a Stormshield\, melyet ebéd után a Panda Security workshopja követ. Ismerje meg a két európai gyártó megoldásait\, valamint\, hogy miért kötöttek stratégiai szövetséget… \n \nStormshield workshop\nA Stormshield előadását Orosz Tamás (International Pre-Sales Engineer & Trainer) tartja. \nTematika: \n8:30-9:00 Érkezés \n9:00-9:30 Session 1. \nCégbemutató: A Stormshield                                                               \nMúltja\, Jelene  és Jövője \, Stratégiai célok\nTulajdonosi háttér\nElért eredményeink\nTanúsítványok\nPartnereink\nA három terület High Level áttekintése \n9:30-10:50  Session 2. \nA Stormshield által lefedett biztonsági területek részletes bemutatása:\nStormshield Network Security                                \nStormshield Data Security                                        \nStormshield Endpoint Security                                \nOnline Demo\, GUI \n10:50-11:00 Szünet \n11:00-11:30 Session 3. \nLicenszelés\, Árlista\nA technológia partnerségek ismertetése\nA Panda Security-vel való együttműködés\nReferenciaügyfelek\, esettanulmányok \n\nPanda Workshop\nA Panda workshopot Bardócz Gyula a Panda kereskedelmi vezetője tartja. \nIsmerje meg a Panda Security termékeit\, és ismerje meg az egyedülálló megoldást\, amely segít a GDPR okozta nehézségek megoldásában is. \nA Panda Data Control modulja tudatosan arra lett fejlesztve\, hogy segítse a strukturálatlan adatok nyomon követését. Ezt több hónapos adatleltárok helyett\, három gombnyomással végrehajthatjuk. \nTematika: \n11:30-12:00 A Panda portfólió ismertetése \n12:00-12:30 A Panda Adaptive Defense (EDR) védelmének áttekintése \n12:30-13:00 Szünet \n13:00-13:30 Az Advanced Reporting Tool (végponti SIEM) modul \n13:30-14:00 A Data Control (GDPR) moduljának részletes bemutatása \n14:00-14:20 Esettanulmányok \n14:20-14:40 Stormshield – Panda együttműködés a Panda oldaláról nézve \n14:40-15:00 Kérdések és válaszok \nJöjjön el Ön is! Regisztráljon most! \nViszonteladóinknak ingyenes részvételi lehetőséget biztosítunk\, amihez előzetes regisztráció szükséges! A férőhelyek száma korlátozott\, a regisztrációt a jelentkezés sorrendjében tudjuk elfogadni! Az előadások magyar nyelvűek. \nA workshop 8:30-től 15:00-ig tart.\nIdőpont: 2019. június 19.\nHelyszín: Az oktatás helyszíne a RelNet oktatóterme \nCím: 1047 Budapest\, Váci út 71. – Az épület és az udvar bejárata is a Perényi Zsigmond utcáról nyílik\nParkolás: Díjmentes a belső udvaron és a környező utcákban is.
URL:https://relnet.hu/rendezveny/stormshield-panda-workshopot-tartunk/
LOCATION:RelNet konferencia terem\, Váci út 71.\, Budapest\, 1047\, Magyarország
CATEGORIES:Gyártó,Oktatás,Panda Security,RelNet,Stormshield,Viszonteladó
ATTACH;FMTTYPE=image/png:https://relnet.hu/wp-content/uploads/2019/06/Stormshield-Panda1.png
GEO:47.572774139773;19.081058942328
X-APPLE-STRUCTURED-LOCATION;VALUE=URI;X-ADDRESS=RelNet konferencia terem Váci út 71. Budapest 1047 Magyarország;X-APPLE-RADIUS=500;X-TITLE=Váci út 71.:geo:19.081058942328,47.572774139773
END:VEVENT
END:VCALENDAR