BEGIN:VCALENDAR
VERSION:2.0
PRODID:-//RelNet Technológia Kft. - ECPv5.16.4//NONSGML v1.0//EN
CALSCALE:GREGORIAN
METHOD:PUBLISH
XXXXXXXXXXXXXXXXXXXXXXXXXXXXXXXXXXXXXX
XXXXXXXXXXXXXXXXXXXXXXXXXXXXXXXXX
XXXXXXXXXXXXXXXXXXXXXXXXXXXXXXXXXXXXXXXXXXXXXXXXX
BEGIN:VTIMEZONE
TZID:Europe/Budapest
BEGIN:DAYLIGHT
TZOFFSETFROM:+0100
TZOFFSETTO:+0200
TZNAME:CEST
DTSTART:20230326T010000
END:DAYLIGHT
BEGIN:STANDARD
TZOFFSETFROM:+0200
TZOFFSETTO:+0100
TZNAME:CET
DTSTART:20231029T010000
END:STANDARD
END:VTIMEZONE
BEGIN:VEVENT
DTSTART;TZID=Europe/Budapest:20230818T113000
DTEND;TZID=Europe/Budapest:20230818T123000
DTSTAMP:20260419T221116
CREATED:20230724T110137Z
LAST-MODIFIED:20230816T071802Z
UID:30143-1692358200-1692361800@relnet.hu
SUMMARY:Teljes és biztonságos jogosultságmenedzsment a PAM4ALL-lal
DESCRIPTION:Bármikor megtekinthető WALLIX PAM4ALL webinárium. \nMEGNEZÉM\n\nA felhőmigráción túl egyre nő a távmunkában dolgozók\, az eszközök és a digitális felhasználási módoknak a száma\, és ezzel párhuzamosan nő a vállalatok kritikus eszközeihez való hozzáférések száma és típusa is. \nA WALLIX segít szembe nézni ezzel a kihívással. A PAM4ALL egységes jogosultságkezelési megoldással egyszerűen biztosítható\, ellenőrizhető és kezelhető az összes hozzáférés. \nA PAM4ALL csökkenti a jogosultságokkal kapcsolatos kockázatokat\, lehetővé teszi a távoli kapcsolatok részletekbe menő kezelését\, és biztonságos hozzáférést ad a megfelelő erőforrásokhoz\, a megfelelő célra és a megfelelő időben\, így jelentősen csökkenti a támadási felületet\, és a termelékenység csökkenése nélkül teljesíti a megfelelési követelményeket is.
URL:https://relnet.hu/rendezveny/teljes-es-biztonsagos-jogosultsagmenedzsment-a-pam4all-lal/
LOCATION:Virtuális rendezvény
CATEGORIES:WALLIX
ATTACH;FMTTYPE=image/jpeg:https://relnet.hu/wp-content/uploads/2023/07/WallixPam4allTeljes-min.jpg
END:VEVENT
END:VCALENDAR