BEGIN:VCALENDAR
VERSION:2.0
PRODID:-//RelNet Technológia Kft. - ECPv5.16.4//NONSGML v1.0//EN
CALSCALE:GREGORIAN
METHOD:PUBLISH
XXXXXXXXXXXXXXXXXXXXXXXXXXXXXXXXXXXXXX
XXXXXXXXXXXXXXXXXXXXXXXXXXXXXXXXX
XXXXXXXXXXXXXXXXXXXXXXXXXXXXXXXXXXXXXXXXXXXXXXXXX
BEGIN:VTIMEZONE
TZID:Europe/Budapest
BEGIN:DAYLIGHT
TZOFFSETFROM:+0100
TZOFFSETTO:+0200
TZNAME:CEST
DTSTART:20210328T010000
END:DAYLIGHT
BEGIN:STANDARD
TZOFFSETFROM:+0200
TZOFFSETTO:+0100
TZNAME:CET
DTSTART:20211031T010000
END:STANDARD
END:VTIMEZONE
BEGIN:VEVENT
DTSTART;TZID=Europe/Budapest:20210519T150000
DTEND;TZID=Europe/Budapest:20210519T160000
DTSTAMP:20260419T220329
CREATED:20210506T125513Z
LAST-MODIFIED:20210506T150110Z
UID:15143-1621436400-1621440000@relnet.hu
SUMMARY:Új gyártó a RelNetnél: Flowmon Networks
DESCRIPTION:A portfóliónk új gyártója a KEMP által felvásárolt Flowmon Networks. \nCsatlakozzon és ismerje meg\, hogy miért tartjuk a hálózat láthatóságát és a forgalomanalitikát a jelen és a jövő legfontosabb képességeinek\, hogyan tudjuk teljes egészében átlátni és megérteni mi történik a rendszereinkkel\, hogyan tudunk hibakeresés helyett a megoldással foglalkozni! \nElmondjuk\, miként segít nekünk ez a sokrétű képesség a napi üzemeltetési feladatokban\, az IT biztonság szintjének és az alkalmazásaink rendelkezésre állásának növelésében\, továbbá\, hogy hogyan tudunk igazi együttműködést megvalósítani a vállalati IT szervezetet és az üzleti oldalt alkotó szakértők és vezetők között\, továbbá\, hogy milyen integráció érhető már el a KEMP ADC és a Flowmon megoldások között! \nHallgassa meg a gyakorlati tapasztalatokat a Flowmon magyarországi szakértőitől!\nElőadók:\nVánya László\, Kemp\, Business Development Manager\nTéchy Zoltán\, Kemp\, Senior Solution Architect \nRegisztráljon most!
URL:https://relnet.hu/rendezveny/uj-gyarto-a-relnetnel-flowmon-networks/
LOCATION:Virtuális rendezvény
CATEGORIES:Flowmon,Kemp Technologies,Végfelhasználó,Viszonteladó
ATTACH;FMTTYPE=image/jpeg:https://relnet.hu/wp-content/uploads/2021/05/Flowmon-min.jpg
END:VEVENT
END:VCALENDAR