BEGIN:VCALENDAR
VERSION:2.0
PRODID:-//RelNet Technológia Kft. - ECPv5.16.4//NONSGML v1.0//EN
CALSCALE:GREGORIAN
METHOD:PUBLISH
XXXXXXXXXXXXXXXXXXXXXXXXXXXXXXXXXXXXXX
XXXXXXXXXXXXXXXXXXXXXXXXXXXXXXXXX
XXXXXXXXXXXXXXXXXXXXXXXXXXXXXXXXXXXXXXXXXXXXXXXXX
BEGIN:VTIMEZONE
TZID:Europe/Budapest
BEGIN:DAYLIGHT
TZOFFSETFROM:+0100
TZOFFSETTO:+0200
TZNAME:CEST
DTSTART:20200329T010000
END:DAYLIGHT
BEGIN:STANDARD
TZOFFSETFROM:+0200
TZOFFSETTO:+0100
TZNAME:CET
DTSTART:20201025T010000
END:STANDARD
END:VTIMEZONE
BEGIN:VEVENT
DTSTART;TZID=Europe/Budapest:20200324T100000
DTEND;TZID=Europe/Budapest:20200324T110000
DTSTAMP:20260420T045539
CREATED:20200317T165424Z
LAST-MODIFIED:20200317T165822Z
UID:5244-1585044000-1585047600@relnet.hu
SUMMARY:Védje adatait a koronavírussal kapcsolatban küldött adathalász e-mailek és a zero-day rosszindulatú programok ellen
DESCRIPTION:2020. március 24-én a Sophos Védje adatait a koronavírussal kapcsolatban küldött adathalász e-mailek és a zero-day rosszindulatú programok ellen címmel végfelhasználóknak szóló webináriumot tart. \nA webináriumból megtudható\, hogyan kell észlelni az adathalász támadásokat\, és hogyan védhetjük meg magunkat nem csak a koronavírussal kapcsolatos\, hanem az egyéb rosszindulatú programoktól. \nTematika: \n• Hogyan lehet megakadályozni az adathalászat jelentette veszélyeket a felhasználók oktatása révén?\n• Hogyan működnek az adathalász csalások\, és mi a legrosszabb\, ami történhet?\n• A támadók hogyan hatolhatnak be a rendszereikbe és a Sophos következő generációs végpontvédelemével hogyan lehet ezt megakadályozni?\n• Kulcsfontosságú\, hogy biztosítsuk a szervezetek „egészséges kiberbiztonsági védelmét” az egymással beszélgető szinkronizált megoldások segítségével\n• Gyakorlati bemutató \nRegisztráljon most!\n\n \n\nSecure Your Data from Coronavirus Phishing Emails and Zero-Day Malware\nWebinar\n2020. március 24. 10:00-11:00 CET\nAz előadás angol nyelvű. \nREGISZTRÁCIÓ
URL:https://relnet.hu/rendezveny/vedje-adatait-a-koronavirussal-kapcsolatban-kuldott-adathalasz-e-mailek-es-a-zero-day-rosszindulatu-programok-ellen/
CATEGORIES:Gyártó,Oktatás,RelNet,Sophos,Végfelhasználó,Viszonteladó,Webinárium
ATTACH;FMTTYPE=image/png:https://relnet.hu/wp-content/uploads/2020/03/Sophos1.png
END:VEVENT
END:VCALENDAR