BEGIN:VCALENDAR
VERSION:2.0
PRODID:-//RelNet Technológia Kft. - ECPv5.16.4//NONSGML v1.0//EN
CALSCALE:GREGORIAN
METHOD:PUBLISH
XXXXXXXXXXXXXXXXXXXXXXXXXXXXXXXXXXXXXX
XXXXXXXXXXXXXXXXXXXXXXXXXXXXXXXXX
XXXXXXXXXXXXXXXXXXXXXXXXXXXXXXXXXXXXXXXXXXXXXXXXX
BEGIN:VTIMEZONE
TZID:Europe/Budapest
BEGIN:DAYLIGHT
TZOFFSETFROM:+0100
TZOFFSETTO:+0200
TZNAME:CEST
DTSTART:20240331T010000
END:DAYLIGHT
BEGIN:STANDARD
TZOFFSETFROM:+0200
TZOFFSETTO:+0100
TZNAME:CET
DTSTART:20241027T010000
END:STANDARD
END:VTIMEZONE
BEGIN:VEVENT
DTSTART;TZID=Europe/Budapest:20240213T150000
DTEND;TZID=Europe/Budapest:20240213T154500
DTSTAMP:20260420T043135
CREATED:20240131T154746Z
LAST-MODIFIED:20240202T073423Z
UID:32794-1707836400-1707839100@relnet.hu
SUMMARY:Volkswagen esettanulmány – Progress Flowmon webinárium
DESCRIPTION:Hogyan szerzett részletes betekintést a Volkswagen Slovakia a komplex infrastruktúrájába a Progress Flowmon megoldásával? \nREGISZTRÁCIÓ\n\nA Volkswagen Slovakia informatikai részlegei több ezer IP-címet és felhasználói azonosítót\, valamint több száz gépet üzemeltetnek és felügyelnek. A webináriumon a résztvevők kötetlen beszélgetést folytathatnak a Volkswagen Slovakia IT-biztonsági igazgatójával\, aki elmeséli\, hogyan vezették be a Flowmon megoldását\, amely betekintést nyújt az IT csapatoknak a komplex infrastruktúrába. \nIdőpont: 2024. február 13. (kedd) | 15:00-15:45 \nTémák: \n\nBepillantás az autóipari kiberbiztonság világába: Bemutatkoznak a Volkswagen Slovakia IT és üzemeltetési részlegei\nÁttekintés azokról a kihívásokról\, amelyek a több ezer IP-cím\, felhasználói azonosító és gép monitorozásával kapcsolatosak\nA Flowmon szerepe az új biztonsági stratégiák végrehajtásában és a Zero Trust elv érvényesítésében\nKérdések és válaszok\n\nElőadók: \n\nMarian Klaco\, CISO\, Wolkswagen Slovakia\nRoman Cupka\, kiberbiztonsági szakértő\, Progress Software\n\nNe hagyja ki a lehetőséget\, hogy értékes betekintést nyerjen a legmodernebb kiberbiztonsági gyakorlatokba\, és megismerkedjen a Volkswagen Slovakia mértékadó projektjével. \nREGISZTRÁCIÓ
URL:https://relnet.hu/rendezveny/volkswagen-esettanulmany-progress-flowmon-webinarium/
LOCATION:Virtuális rendezvény
CATEGORIES:Flowmon,Progress,Webinárium
ATTACH;FMTTYPE=image/jpeg:https://relnet.hu/wp-content/uploads/2024/01/ProgressFlowmonVolkswagen-min.jpg
END:VEVENT
END:VCALENDAR