BEGIN:VCALENDAR
VERSION:2.0
PRODID:-//RelNet Technológia Kft. - ECPv5.16.4//NONSGML v1.0//EN
CALSCALE:GREGORIAN
METHOD:PUBLISH
XXXXXXXXXXXXXXXXXXXXXXXXXXXXXXXXXXXXXX
XXXXXXXXXXXXXXXXXXXXXXXXXXXXXXXXX
XXXXXXXXXXXXXXXXXXXXXXXXXXXXXXXXXXXXXXXXXXXXXXXXX
BEGIN:VTIMEZONE
TZID:Europe/Budapest
BEGIN:DAYLIGHT
TZOFFSETFROM:+0100
TZOFFSETTO:+0200
TZNAME:CEST
DTSTART:20250330T010000
END:DAYLIGHT
BEGIN:STANDARD
TZOFFSETFROM:+0200
TZOFFSETTO:+0100
TZNAME:CET
DTSTART:20251026T010000
END:STANDARD
END:VTIMEZONE
BEGIN:VEVENT
DTSTART;TZID=Europe/Budapest:20250918T150000
DTEND;TZID=Europe/Budapest:20250918T160000
DTSTAMP:20260420T082626
CREATED:20250908T082351Z
LAST-MODIFIED:20250908T082351Z
UID:39329-1758207600-1758211200@relnet.hu
SUMMARY:WALLIX ONE PAM CORE webinárium partnereknek
DESCRIPTION:A WALLIX exkluzív partnereseményén bemutatásra kerül a WALLIX ONE PAM CORE megoldás\, ami a SaaS Bastion egyszerűsített\, költségtudatos kiadása\, kifejezetten középvállalatok igényeire optimalizálva. Kiderül\, hogyan támogatja a megoldás a belső hozzáférés-védelmet (mind IT\, mind OT környezetekben)\, és hogyan nyit új üzleti lehetőségeket a PAM-piacon. \nREGISZTRÁCIÓ\n\n  \nIdőpont: 2025. szeptember 18. (csütörtök)\, 15:00–16:00 \nTémák: \n\nCsökkentett komplexitás\, valós érték: kiegyensúlyozott funkció/költség arány középvállalati ügyfeleknek.\nStratégiai belépési pont nagyvállalatokhoz: ideális\, ha egy specifikus tevékenység\, leányvállalat vagy üzletág biztonságos hozzáférését kell gyorsan megvalósítani.\nTeljes értékesítési eszköztár: funkciók\, felhasználási esetek és pozicionálás. Hová illeszkedik a WALLIX ONE PAM CORE a teljes WALLIX kínálatban?\n\n\nPiacnyitás a gyakorlatban: tippek\, hogyan használható a megoldás középvállalati és nagyvállalati lehetőségek kiaknázására.\n\nElőadók: \n\nGauthier Hurel\, Product Manager\nDavid Baliashvili\, Product Marketing Manager
URL:https://relnet.hu/rendezveny/wallix-one-pam-core-webinarium-partnereknek/
LOCATION:Virtuális rendezvény
CATEGORIES:WALLIX
ATTACH;FMTTYPE=image/jpeg:https://relnet.hu/wp-content/uploads/2025/09/WallixOnePamCore-min.jpg
END:VEVENT
END:VCALENDAR