BEGIN:VCALENDAR
VERSION:2.0
PRODID:-//RelNet Technológia Kft. - ECPv5.16.4//NONSGML v1.0//EN
CALSCALE:GREGORIAN
METHOD:PUBLISH
XXXXXXXXXXXXXXXXXXXXXXXXXXXXXXXXXXXXXX
XXXXXXXXXXXXXXXXXXXXXXXXXXXXXXXXX
XXXXXXXXXXXXXXXXXXXXXXXXXXXXXXXXXXXXXXXXXXXXXXXXX
BEGIN:VTIMEZONE
TZID:Europe/Budapest
BEGIN:DAYLIGHT
TZOFFSETFROM:+0100
TZOFFSETTO:+0200
TZNAME:CEST
DTSTART:20240331T010000
END:DAYLIGHT
BEGIN:STANDARD
TZOFFSETFROM:+0200
TZOFFSETTO:+0100
TZNAME:CET
DTSTART:20241027T010000
END:STANDARD
END:VTIMEZONE
BEGIN:VEVENT
DTSTART;TZID=Europe/Budapest:20240911T130000
DTEND;TZID=Europe/Budapest:20240911T140000
DTSTAMP:20260419T220214
CREATED:20240906T074945Z
LAST-MODIFIED:20240906T075115Z
UID:34820-1726059600-1726063200@relnet.hu
SUMMARY:WALLIX PAM One – Partneri webinárium
DESCRIPTION:Csatlakozzon a WALLIX partneri webináriumához\, amelyen a gyártó bemutatja PAM megoldásánat szolgáltatásalapú\, SaaS változatát! \nREGISZTRÁCIÓ\n\nA WALLIX One PAM egy „minden-egyben” hozzáféréskezelő megoldás\, amely egyedülálló lehetőséget kínál ügyfelei biztonsági helyzetének javítására\, miközben racionalizálja az IT-üzemeltetést is. A WALLIX One PAM megbízható hozzáférés-irányítást\, fenyegetésészlelést és megfelelőségkezelést biztosít\, rugalmas és skálázható SaaS-modellben. Szó lesz arról is\, hogy hogyan integrálható ez a megoldás zökkenőmentesen az ügyfelek digitális infrastruktúráiba. \nIdőpont: 2024. szeptember 11. (szerda) | 11:00-12:00
URL:https://relnet.hu/rendezveny/wallix-pam-one-partneri-webinarium/
LOCATION:Virtuális rendezvény
CATEGORIES:PAM,WALLIX
ATTACH;FMTTYPE=image/jpeg:https://relnet.hu/wp-content/uploads/2024/09/WallixPamOne-min.jpg
END:VEVENT
END:VCALENDAR