BEGIN:VCALENDAR
VERSION:2.0
PRODID:-//RelNet Technológia Kft. - ECPv5.16.4//NONSGML v1.0//EN
CALSCALE:GREGORIAN
METHOD:PUBLISH
XXXXXXXXXXXXXXXXXXXXXXXXXXXXXXXXXXXXXX
XXXXXXXXXXXXXXXXXXXXXXXXXXXXXXXXX
XXXXXXXXXXXXXXXXXXXXXXXXXXXXXXXXXXXXXXXXXXXXXXXXX
BEGIN:VTIMEZONE
TZID:Europe/Budapest
BEGIN:DAYLIGHT
TZOFFSETFROM:+0100
TZOFFSETTO:+0200
TZNAME:CEST
DTSTART:20220327T010000
END:DAYLIGHT
BEGIN:STANDARD
TZOFFSETFROM:+0200
TZOFFSETTO:+0100
TZNAME:CET
DTSTART:20221030T010000
END:STANDARD
END:VTIMEZONE
BEGIN:VEVENT
DTSTART;TZID=Europe/Budapest:20220414T143000
DTEND;TZID=Europe/Budapest:20220414T153000
DTSTAMP:20260420T065342
CREATED:20220412T062021Z
LAST-MODIFIED:20220412T062021Z
UID:21662-1649946600-1649950200@relnet.hu
SUMMARY:WALLIX PAM4ALL az ipari környezetek biztonságáért – Webinárium
DESCRIPTION:Regisztráljon a webináriumra\, amelyen a gyártórendszerekhez való hozzáférés szabályozásának fontosságáról lesz szó a működés folytonosságának biztosítása érdekében. A WALLIX megoldása az ipari környezetek biztonságos IT/OT konvergenciájára fenntartja az üzemeltető csapatok rugalmasságát és reakcióképességét. \nA digitális átalakulás folyamatával párhuzamosan az ipari hálózatok jelentősége is egyre nő. Ezen környezetek digitalizálása új lehetőségeket teremt – például fokozott termelést eredményez –\, ám az IoT rendszerek biztonsági kitettségét is növeli. \nAz ICS/OT biztonsági csapatoknak kezelniük kell a fenyegetéseket\, biztosítaniuk a szolgáltatás folyamatosságát\, ugyanakkor fenn kell tartaniuk a reakcióképességüket a helyszínen vagy távolról beavatkozó üzemeltetők számára. \nEzen a webináriumon a WALLIX szakértői megmutatják\, hogyan lehet előre látni és kezelni az új kiberbiztonsági kihívásokat az iparágban. Megismerheti a WALLIX PAM4ALL bevált gyakorlatait az adatokhoz\, alkalmazásokhoz és termelési rendszerekhez való hozzáférés védelmében. \nIdőpont: \n2022. április 14. (csütörtök) / 14:30-15:30 CET \nREGISZTRÁCIÓ
URL:https://relnet.hu/rendezveny/wallix-pam4all-az-ipari-kornyezetek-biztonsagaert-webinarium/
LOCATION:Virtuális rendezvény
CATEGORIES:WALLIX,Webinárium
ATTACH;FMTTYPE=image/png:https://relnet.hu/wp-content/uploads/2022/04/PAM4ALL-min.png
END:VEVENT
END:VCALENDAR