BEGIN:VCALENDAR
VERSION:2.0
PRODID:-//RelNet Technológia Kft. - ECPv5.16.4//NONSGML v1.0//EN
CALSCALE:GREGORIAN
METHOD:PUBLISH
XXXXXXXXXXXXXXXXXXXXXXXXXXXXXXXXXXXXXX
XXXXXXXXXXXXXXXXXXXXXXXXXXXXXXXXX
XXXXXXXXXXXXXXXXXXXXXXXXXXXXXXXXXXXXXXXXXXXXXXXXX
BEGIN:VTIMEZONE
TZID:Europe/Budapest
BEGIN:DAYLIGHT
TZOFFSETFROM:+0100
TZOFFSETTO:+0200
TZNAME:CEST
DTSTART:20240331T010000
END:DAYLIGHT
BEGIN:STANDARD
TZOFFSETFROM:+0200
TZOFFSETTO:+0100
TZNAME:CET
DTSTART:20241027T010000
END:STANDARD
END:VTIMEZONE
BEGIN:VEVENT
DTSTART;TZID=Europe/Budapest:20240415T150000
DTEND;TZID=Europe/Budapest:20240415T160000
DTSTAMP:20260422T162551
CREATED:20240411T082208Z
LAST-MODIFIED:20240411T082208Z
UID:33401-1713193200-1713196800@relnet.hu
SUMMARY:WALLIX Partner Connect webinárium – Első nap
DESCRIPTION:A negyedévente megrendezésre kerülő WALLIX Partner Connect webinárium ezúttal napi egy előadással jelentkezik április 15-től 19-ig. 15-én\, hétfőn a nap témája a gyártó SaaS megoldása\, a WALLIXOne lesz. \nREGISZTRÁCIÓ\n\nIdőpont: 2024. április 15. (hétfő) | 15:00-16:00 \nWALLIXOne témák: \n\nfunkciók\nintegrációs képességek\nskálázhatóság\nüzemeltetés észszerűsítése\n\nElőadó: Laurent Gentil\, Channel Director \nREGISZTRÁCIÓ
URL:https://relnet.hu/rendezveny/wallix-partner-connect-webinarium-elso-nap/
LOCATION:Virtuális rendezvény
CATEGORIES:WALLIX,Webinárium
ATTACH;FMTTYPE=image/jpeg:https://relnet.hu/wp-content/uploads/2024/04/WalliPartnerConnect2024-min.jpg
END:VEVENT
END:VCALENDAR