BEGIN:VCALENDAR
VERSION:2.0
PRODID:-//RelNet Technológia Kft. - ECPv5.16.4//NONSGML v1.0//EN
CALSCALE:GREGORIAN
METHOD:PUBLISH
XXXXXXXXXXXXXXXXXXXXXXXXXXXXXXXXXXXXXX
XXXXXXXXXXXXXXXXXXXXXXXXXXXXXXXXX
XXXXXXXXXXXXXXXXXXXXXXXXXXXXXXXXXXXXXXXXXXXXXXXXX
BEGIN:VTIMEZONE
TZID:Europe/Budapest
BEGIN:DAYLIGHT
TZOFFSETFROM:+0100
TZOFFSETTO:+0200
TZNAME:CEST
DTSTART:20240331T010000
END:DAYLIGHT
BEGIN:STANDARD
TZOFFSETFROM:+0200
TZOFFSETTO:+0100
TZNAME:CET
DTSTART:20241027T010000
END:STANDARD
END:VTIMEZONE
BEGIN:VEVENT
DTSTART;TZID=Europe/Budapest:20240416T150000
DTEND;TZID=Europe/Budapest:20240416T160000
DTSTAMP:20260422T162608
CREATED:20240411T082725Z
LAST-MODIFIED:20240411T082725Z
UID:33406-1713279600-1713283200@relnet.hu
SUMMARY:WALLIX Partner Connect webinárium – Második nap
DESCRIPTION:A negyedévente megrendezésre kerülő WALLIX Partner Connect webinárium ezúttal napi egy előadással jelentkezik április 15-től 19-ig. 16-án\, kedden a nap témája a kiberbiztonság lesz\, mint a megfelelőség hajtómotorja. \nREGISZTRÁCIÓ\n\nIdőpont: 2024. április 16. (kedd) | 15:00-16:00 \nTémák: \n\na kiberbiztonság szerepe a vállalati megfelelés elősegítéséban\nrobusztus kiberbiztonsági intézkedések integrálása az adatbiztonság érdekében\na biztonság\, mint az üzleti növekedés és az innováció katalizátora\n\nElőadók: \n\nEdwige Brossard\, VP Marketing and Communications\nGuido Kraft\, Field CISO\n\nREGISZTRÁCIÓ
URL:https://relnet.hu/rendezveny/wallix-partner-connect-webinarium-masodik-nap/
LOCATION:Virtuális rendezvény
CATEGORIES:WALLIX,Webinárium
ATTACH;FMTTYPE=image/jpeg:https://relnet.hu/wp-content/uploads/2024/04/WalliPartnerConnect2024-min.jpg
END:VEVENT
END:VCALENDAR