BEGIN:VCALENDAR
VERSION:2.0
PRODID:-//RelNet Technológia Kft. - ECPv5.16.4//NONSGML v1.0//EN
CALSCALE:GREGORIAN
METHOD:PUBLISH
XXXXXXXXXXXXXXXXXXXXXXXXXXXXXXXXXXXXXX
XXXXXXXXXXXXXXXXXXXXXXXXXXXXXXXXX
XXXXXXXXXXXXXXXXXXXXXXXXXXXXXXXXXXXXXXXXXXXXXXXXX
BEGIN:VTIMEZONE
TZID:Europe/Budapest
BEGIN:DAYLIGHT
TZOFFSETFROM:+0100
TZOFFSETTO:+0200
TZNAME:CEST
DTSTART:20250330T010000
END:DAYLIGHT
BEGIN:STANDARD
TZOFFSETFROM:+0200
TZOFFSETTO:+0100
TZNAME:CET
DTSTART:20251026T010000
END:STANDARD
END:VTIMEZONE
BEGIN:VEVENT
DTSTART;TZID=Europe/Budapest:20250305T150000
DTEND;TZID=Europe/Budapest:20250305T160000
DTSTAMP:20260422T162724
CREATED:20250225T100645Z
LAST-MODIFIED:20250225T145148Z
UID:37012-1741186800-1741190400@relnet.hu
SUMMARY:WALLIX partneri webináriumsorozat 3. rész
DESCRIPTION:A négyrészes webináriumsorozat 3. részének témája: Üzleti ösztönzők ipari környezetekben. Fedezze fel\, hogy az OT növekvő kiberbiztonsági kihívásainak közepette miként segítik a WALLIX megoldásai az ügyfelek kritikus infrastruktúráinak védelmét\, miközben új üzleti lehetőségeket is megnyitnak.  \nREGISZTRÁCIÓ\n\nIdőpont: 2025. március 5. (szerda) | 15:00-16:00 \nTudja meg\, miként pozícionálhatja a WALLIX megoldásokat ipari környezetekben a megfelelés\, a rugalmasság és az üzemeltetési hatékonyság érdekében. \nTovábbá megtudhatja\, hogyan használhatja ki a keresztértékesítési lehetőségeket portfóliója bővítésére\, ügyfelei biztonsági helyzetének javítására és új bevételi források megteremtésére. \nFedezze fel\, hogy az integrált WALLIX megoldások miként segítik a vállalatokat a kritikus eszközök védelmében\, a megfelelőség biztosításában és a növekedés maximalizálásában!
URL:https://relnet.hu/rendezveny/wallix-partneri-webinariumsorozat-3-resz/
LOCATION:Virtuális rendezvény
CATEGORIES:WALLIX
ATTACH;FMTTYPE=image/jpeg:https://relnet.hu/wp-content/uploads/2025/02/WallixPartneriWebinar25-min.jpg
END:VEVENT
END:VCALENDAR