BEGIN:VCALENDAR
VERSION:2.0
PRODID:-//RelNet Technológia Kft. - ECPv5.16.4//NONSGML v1.0//EN
CALSCALE:GREGORIAN
METHOD:PUBLISH
XXXXXXXXXXXXXXXXXXXXXXXXXXXXXXXXXXXXXX
XXXXXXXXXXXXXXXXXXXXXXXXXXXXXXXXX
XXXXXXXXXXXXXXXXXXXXXXXXXXXXXXXXXXXXXXXXXXXXXXXXX
BEGIN:VTIMEZONE
TZID:Europe/Budapest
BEGIN:DAYLIGHT
TZOFFSETFROM:+0100
TZOFFSETTO:+0200
TZNAME:CEST
DTSTART:20250330T010000
END:DAYLIGHT
BEGIN:STANDARD
TZOFFSETFROM:+0200
TZOFFSETTO:+0100
TZNAME:CET
DTSTART:20251026T010000
END:STANDARD
END:VTIMEZONE
BEGIN:VEVENT
DTSTART;TZID=Europe/Budapest:20250306T150000
DTEND;TZID=Europe/Budapest:20250306T163000
DTSTAMP:20260420T053348
CREATED:20250225T100919Z
LAST-MODIFIED:20250225T145256Z
UID:37014-1741273200-1741278600@relnet.hu
SUMMARY:WALLIX partneri webináriumsorozat 4. rész
DESCRIPTION:A négyrészes webináriumsorozat utolsó részében megtudhat mindent a szolgáltatásalapú hozzáféréskezelést biztosító WALLIX One értékesítési módszereiről az üzleti siker érdekében. Tudja meg\, miként pozícionálhatja hatékonyan a WALLIX One-t\, és hogyan kezelheti az ügyfeligényeket\, és milyen értékajánlatokkal különböztetheti meg magát a piacon. \nREGISZTRÁCIÓ\n\nIdőpont: 2025. március 6. (csütörtök) | 15:00-16:00 \nTovábbá megtudhatja\, miként használhatja ki a keresztértékesítési lehetőségeket portfóliója bővítésére\, ügyfelei biztonsági helyzetének javítására és új bevételi források megteremtésére. \nFedezze fel\, hogy az integrált WALLIX megoldások hogyan segítik a vállalatokat a kritikus eszközök védelmében\, a megfelelőség biztosításában és a növekedés maximalizálásában!
URL:https://relnet.hu/rendezveny/wallix-partneri-webinariumsorozat-4-resz/
LOCATION:Virtuális rendezvény
CATEGORIES:WALLIX
ATTACH;FMTTYPE=image/jpeg:https://relnet.hu/wp-content/uploads/2025/02/WallixPartneriWebinar25-min.jpg
END:VEVENT
END:VCALENDAR