BEGIN:VCALENDAR
VERSION:2.0
PRODID:-//RelNet Technológia Kft. - ECPv5.16.4//NONSGML v1.0//EN
CALSCALE:GREGORIAN
METHOD:PUBLISH
XXXXXXXXXXXXXXXXXXXXXXXXXXXXXXXXXXXXXX
XXXXXXXXXXXXXXXXXXXXXXXXXXXXXXXXX
XXXXXXXXXXXXXXXXXXXXXXXXXXXXXXXXXXXXXXXXXXXXXXXXX
BEGIN:VTIMEZONE
TZID:Europe/Budapest
BEGIN:DAYLIGHT
TZOFFSETFROM:+0100
TZOFFSETTO:+0200
TZNAME:CEST
DTSTART:20230326T010000
END:DAYLIGHT
BEGIN:STANDARD
TZOFFSETFROM:+0200
TZOFFSETTO:+0100
TZNAME:CET
DTSTART:20231029T010000
END:STANDARD
END:VTIMEZONE
BEGIN:VEVENT
DTSTART;TZID=Europe/Budapest:20231025T150000
DTEND;TZID=Europe/Budapest:20231025T160000
DTSTAMP:20260420T063600
CREATED:20231016T123100Z
LAST-MODIFIED:20231016T123100Z
UID:31253-1698246000-1698249600@relnet.hu
SUMMARY:WALLIX webinárium – Felkészülés a NIS2 megfelelőségre
DESCRIPTION:Éljen a lehetőséggel\, hogy javítsa szervezete kiberbiztonsági állapotát a NIS2-nek való megfelelés érdekében! Regisztráljon a WALLIX webináriumára\, hogy megértse a NIS2-irányelv hatását az IT-rendszerek biztonsági fejlesztéseire! \n  \nREGISZTRÁCIÓ\n\n  \nIdőpont: 2023. október 25. (szerda) | 15:00 – 16:00 \nAz EU által 2023-ban bevezetett\, kötelező érvényű NIS2-irányelv korszerűsíti és kiterjeszti a kiberbiztonsági szabályokat a változó digitális kihívások kezelése érdekében. \nTudja meg\, hogyan készítheti fel szervezetét a NIS2-nek való megfelelésre\, beleértve a követelmények megértését\, a kockázatfelmérést\, a szabályzatok kidolgozását\, a biztonsági ellenőrzéseket\, a tesztelést és a folyamatos karbantartást. Fedezze fel\, hogyan segíthet a WALLIX termékportfóliója\, a NIS2-megfelelés elérésében a hozzáférés-kezelés egységesítésével és az emelt szintű jogosultságok ellenőrzésével. \nTémák: \n\nBevezetés a NIS2-irányelvbe: A követelmények megértése\nFelkészülés a NIS2 megfelelésre\nA WALLIX termékportfóliója: Társ a megfelelőségben\nKérdések és válaszok
URL:https://relnet.hu/rendezveny/wallix-webinarium-felkeszules-a-nis2-megfelelosegre/
LOCATION:Virtuális rendezvény
CATEGORIES:WALLIX,Webinárium
ATTACH;FMTTYPE=image/jpeg:https://relnet.hu/wp-content/uploads/2023/10/WallixNIS2Webinar-min.jpg
END:VEVENT
END:VCALENDAR