BEGIN:VCALENDAR
VERSION:2.0
PRODID:-//RelNet Technológia Kft. - ECPv5.16.4//NONSGML v1.0//EN
CALSCALE:GREGORIAN
METHOD:PUBLISH
XXXXXXXXXXXXXXXXXXXXXXXXXXXXXXXXXXXXXX
XXXXXXXXXXXXXXXXXXXXXXXXXXXXXXXXX
XXXXXXXXXXXXXXXXXXXXXXXXXXXXXXXXXXXXXXXXXXXXXXXXX
BEGIN:VTIMEZONE
TZID:Europe/Budapest
BEGIN:DAYLIGHT
TZOFFSETFROM:+0100
TZOFFSETTO:+0200
TZNAME:CEST
DTSTART:20250330T010000
END:DAYLIGHT
BEGIN:STANDARD
TZOFFSETFROM:+0200
TZOFFSETTO:+0100
TZNAME:CET
DTSTART:20251026T010000
END:STANDARD
END:VTIMEZONE
BEGIN:VEVENT
DTSTART;TZID=Europe/Budapest:20251209T170000
DTEND;TZID=Europe/Budapest:20251209T210000
DTSTAMP:20260419T232859
CREATED:20251021T144424Z
LAST-MODIFIED:20251103T141653Z
UID:39885-1765299600-1765314000@relnet.hu
SUMMARY:Zártkörű mozivetítésre és eLearning díjátadóra invitáljuk a partnereinket
DESCRIPTION:Kiemelt gyártónk\, az AlgoSec támogatásával december 9-én\, kedden\, a Szemfényvesztők 3 (Now You See Me: Now You Don’t) című krimikomédiát nézzük meg közösen a Sugár Moziban\, és átadjuk az őszi eLearning pontgyűjtő versenyünk díjait. \nA díjátadót ezúttal az AlgoSec-re fókuszálva szervezzük. A filmvetítés előtt így lehetőség nyílik majd üzleti egyeztetésekre szakértő kollégáinkkal. \nA díjátadón kiosztjuk a november 30-ig tartó eLearning pontgyűjtő versenyünk díjait\, köztük egy Samsung smart televíziót\, majd megnézzük a filmet. \nProgram: \n\n17:00-tól: érkezés és regisztráció a hallban\n17:40-tól: eLearning díjak kihirdetése és átadása a moziteremben\n18:00-tól: filmvetítés (a film hossza 1 óra 52 perc)\, popcorn\, nachos\, üdítő\n\nAki eljön\, mentalista titkokat leshet el Woody Harrelsontól és Morgan Freemantől\, az akció fő és felelős szemfényvesztőitől. A regisztráció már nyitott! \nHelyszín: Sugár Üzletközpont\, Sugár Mozi (1148 Budapest\, Örs vezér tere 24.\, 2. emelet) \nParkolás: Az első 3 óra ingyenes! Ehhez a parkolójegyet a mozi kasszájánál érvényesíteni szükséges. \nAz esemény zártkörű\, a résztvevők száma korlátozott és előzetes regisztrációhoz kötött. A regisztrációkat minden esetben emailben visszaigazoljuk. Regisztrációkor\, kérjük\, add meg\, hogy egyedül jössz-e vagy kísérővel\, és hogy milyen menüt kérsz/kértek. \nLegyél Te is a RelNet eLearning közösség aktív tagja! \nREGISZTRÁLNI BEJELENTKEZÉS UTÁN LEHET A FENTI „JELENTKEZÉS A RENDEZVÉNYRE” GOMBRA KATTINTVA! \nA RelNet eLearning program „Díjazzuk a tudást!” promóciójának részletei
URL:https://relnet.hu/rendezveny/zartkoru-mozivetitesre-es-elearning-dijatadora-invitaljuk-a-partnereinket/
LOCATION:Sugár Mozi\, Örs vezér tere 24.\, Budapest\, 1148\, Magyarország
CATEGORIES:RelNet,Rendezvény,Végfelhasználó,Viszonteladó
ATTACH;FMTTYPE=image/jpeg:https://relnet.hu/wp-content/uploads/2025/10/2025DecemberiMozi-min-1.jpg
END:VEVENT
END:VCALENDAR